BEGIN:VCALENDAR
VERSION:2.0
PRODID:-//Bournemouth Bmx Club - ECPv5.16.0//NONSGML v1.0//EN
CALSCALE:GREGORIAN
METHOD:PUBLISH
X-WR-CALNAME:Bournemouth Bmx Club
X-ORIGINAL-URL:https://www.bournemouthbmx.co.uk
X-WR-CALDESC:Events for Bournemouth Bmx Club
BEGIN:VTIMEZONE
TZID:Europe/Paris
BEGIN:DAYLIGHT
TZOFFSETFROM:+0100
TZOFFSETTO:+0200
TZNAME:CEST
DTSTART:20190331T010000
END:DAYLIGHT
BEGIN:STANDARD
TZOFFSETFROM:+0200
TZOFFSETTO:+0100
TZNAME:CET
DTSTART:20191027T010000
END:STANDARD
END:VTIMEZONE
BEGIN:VEVENT
DTSTART;TZID=Europe/Paris:20190113T080000
DTEND;TZID=Europe/Paris:20190113T170000
DTSTAMP:20260421T194915
CREATED:20181115T104133Z
LAST-MODIFIED:20181128T170859Z
UID:4052-1547366400-1547398800@www.bournemouthbmx.co.uk
SUMMARY:Deep South Winter Series - Race 4
DESCRIPTION:
URL:https://www.bournemouthbmx.co.uk/event/deep-south-winter-series-race-4/
LOCATION:Gosport BMX\, United Kingdom
CATEGORIES:Deep South Winter Series,Racing
ATTACH;FMTTYPE=image/jpeg:https://www.bournemouthbmx.co.uk/wp-content/uploads/2018/11/deepsouthslide3.jpg
END:VEVENT
END:VCALENDAR